BEGIN:VCALENDAR
VERSION:2.0
PRODID:-//jEvents 2.0 for Joomla//EN
CALSCALE:GREGORIAN
METHOD:PUBLISH
BEGIN:VTIMEZONE
TZID:Europe/Berlin
BEGIN:STANDARD
DTSTART:20131027T020000
RDATE:20140330T030000
TZOFFSETFROM:+0200
TZOFFSETTO:+0100
TZNAME:Europe/Berlin CET
END:STANDARD
BEGIN:STANDARD
DTSTART:20141026T020000
RDATE:20150329T030000
TZOFFSETFROM:+0200
TZOFFSETTO:+0100
TZNAME:Europe/Berlin CET
END:STANDARD
BEGIN:STANDARD
DTSTART:20151025T020000
RDATE:20160327T030000
TZOFFSETFROM:+0200
TZOFFSETTO:+0100
TZNAME:Europe/Berlin CET
END:STANDARD
BEGIN:STANDARD
DTSTART:20161030T020000
RDATE:20170326T030000
TZOFFSETFROM:+0200
TZOFFSETTO:+0100
TZNAME:Europe/Berlin CET
END:STANDARD
BEGIN:STANDARD
DTSTART:20171029T020000
RDATE:20180325T030000
TZOFFSETFROM:+0200
TZOFFSETTO:+0100
TZNAME:Europe/Berlin CET
END:STANDARD
BEGIN:STANDARD
DTSTART:20181028T020000
RDATE:20190331T030000
TZOFFSETFROM:+0200
TZOFFSETTO:+0100
TZNAME:Europe/Berlin CET
END:STANDARD
BEGIN:STANDARD
DTSTART:20191027T020000
RDATE:20200329T030000
TZOFFSETFROM:+0200
TZOFFSETTO:+0100
TZNAME:Europe/Berlin CET
END:STANDARD
BEGIN:STANDARD
DTSTART:20201025T020000
RDATE:20210328T030000
TZOFFSETFROM:+0200
TZOFFSETTO:+0100
TZNAME:Europe/Berlin CET
END:STANDARD
BEGIN:STANDARD
DTSTART:20211031T020000
RDATE:20220327T030000
TZOFFSETFROM:+0200
TZOFFSETTO:+0100
TZNAME:Europe/Berlin CET
END:STANDARD
BEGIN:STANDARD
DTSTART:20221030T020000
RDATE:20230326T030000
TZOFFSETFROM:+0200
TZOFFSETTO:+0100
TZNAME:Europe/Berlin CET
END:STANDARD
BEGIN:STANDARD
DTSTART:20231029T020000
RDATE:20240331T030000
TZOFFSETFROM:+0200
TZOFFSETTO:+0100
TZNAME:Europe/Berlin CET
END:STANDARD
BEGIN:STANDARD
DTSTART:20241027T020000
RDATE:20250330T030000
TZOFFSETFROM:+0200
TZOFFSETTO:+0100
TZNAME:Europe/Berlin CET
END:STANDARD
BEGIN:STANDARD
DTSTART:20251026T020000
RDATE:20260329T030000
TZOFFSETFROM:+0200
TZOFFSETTO:+0100
TZNAME:Europe/Berlin CET
END:STANDARD
BEGIN:DAYLIGHT
DTSTART:20130809T100000
RDATE:20131027T020000
TZOFFSETFROM:+0100
TZOFFSETTO:+0200
TZNAME:Europe/Berlin CEST
END:DAYLIGHT
BEGIN:DAYLIGHT
DTSTART:20140330T030000
RDATE:20141026T020000
TZOFFSETFROM:+0100
TZOFFSETTO:+0200
TZNAME:Europe/Berlin CEST
END:DAYLIGHT
BEGIN:DAYLIGHT
DTSTART:20150329T030000
RDATE:20151025T020000
TZOFFSETFROM:+0100
TZOFFSETTO:+0200
TZNAME:Europe/Berlin CEST
END:DAYLIGHT
BEGIN:DAYLIGHT
DTSTART:20160327T030000
RDATE:20161030T020000
TZOFFSETFROM:+0100
TZOFFSETTO:+0200
TZNAME:Europe/Berlin CEST
END:DAYLIGHT
BEGIN:DAYLIGHT
DTSTART:20170326T030000
RDATE:20171029T020000
TZOFFSETFROM:+0100
TZOFFSETTO:+0200
TZNAME:Europe/Berlin CEST
END:DAYLIGHT
BEGIN:DAYLIGHT
DTSTART:20180325T030000
RDATE:20181028T020000
TZOFFSETFROM:+0100
TZOFFSETTO:+0200
TZNAME:Europe/Berlin CEST
END:DAYLIGHT
BEGIN:DAYLIGHT
DTSTART:20190331T030000
RDATE:20191027T020000
TZOFFSETFROM:+0100
TZOFFSETTO:+0200
TZNAME:Europe/Berlin CEST
END:DAYLIGHT
BEGIN:DAYLIGHT
DTSTART:20200329T030000
RDATE:20201025T020000
TZOFFSETFROM:+0100
TZOFFSETTO:+0200
TZNAME:Europe/Berlin CEST
END:DAYLIGHT
BEGIN:DAYLIGHT
DTSTART:20210328T030000
RDATE:20211031T020000
TZOFFSETFROM:+0100
TZOFFSETTO:+0200
TZNAME:Europe/Berlin CEST
END:DAYLIGHT
BEGIN:DAYLIGHT
DTSTART:20220327T030000
RDATE:20221030T020000
TZOFFSETFROM:+0100
TZOFFSETTO:+0200
TZNAME:Europe/Berlin CEST
END:DAYLIGHT
BEGIN:DAYLIGHT
DTSTART:20230326T030000
RDATE:20231029T020000
TZOFFSETFROM:+0100
TZOFFSETTO:+0200
TZNAME:Europe/Berlin CEST
END:DAYLIGHT
BEGIN:DAYLIGHT
DTSTART:20240331T030000
RDATE:20241027T020000
TZOFFSETFROM:+0100
TZOFFSETTO:+0200
TZNAME:Europe/Berlin CEST
END:DAYLIGHT
BEGIN:DAYLIGHT
DTSTART:20250330T030000
RDATE:20251026T020000
TZOFFSETFROM:+0100
TZOFFSETTO:+0200
TZNAME:Europe/Berlin CEST
END:DAYLIGHT
END:VTIMEZONE
BEGIN:VEVENT
UID:41ee3502b75cda4fc39b4469b06ae3e3
CATEGORIES:LRVD Allgemein
CREATED:20140722T172410
SUMMARY:Inselfest Laubegast
DESCRIPTION:Vorstellung des LRVDs im Rahmen des Laubegaster InselfestesEuch führen Mitg
 lieder des LRVDs durch unser Bootshaus und beantworten alle Fragen rund um 
 Boote, Technik, Sport und unseren Verein.\nAlle Infos zum Inselfest findet 
 ihr hier (http://inselfest-laubegast.in-dresden.info/).\nAnmerkung:\nMitgli
 eder, die gerne mitmachen möchten, melden sich bitte bei This email address
  is being protected from spambots. You need JavaScript enabled to view it.

 				document.getElementById('cloakc001efbe4ac397d08d880681df278542').innerH
 TML = '';
				var prefix = '&#109;a' + 'i&#108;' + '&#116;o';
				var path 
 = 'hr' + 'ef' + '=';
				var addyc001efbe4ac397d08d880681df278542 = 'm&#105
 ;ch&#97;&#101;l.t&#111;sch' + '&#64;';
				addyc001efbe4ac397d08d880681df27
 8542 = addyc001efbe4ac397d08d880681df278542 + 'lrvd' + '&#46;' + 'd&#101;';
 
				var addy_textc001efbe4ac397d08d880681df278542 = 'M&#105;ch&#97;&#101;l
  T&#111;sch';document.getElementById('cloakc001efbe4ac397d08d880681df278542
 ').innerHTML += '<a ' + path + '\'' + prefix + ':' + addyc001efbe4ac397d08d
 880681df278542 + '\'>'+addy_textc001efbe4ac397d08d880681df278542+'';
		. Di
 e geleisteten Stunden werden als Arbeitsstunden angerechnet. \n
X-ALT-DESC;FMTTYPE=text/html:<h3>Vorstellung des LRVDs im Rahmen des Laubegaster Inselfestes</h3><p>Euch
  führen Mitglieder des LRVDs durch unser Bootshaus und beantworten alle Fra
 gen rund um Boote, Technik, Sport und unseren Verein.</p><p>Alle Infos zum 
 Inselfest findet ihr <a href="http://inselfest-laubegast.in-dresden.info/" 
 target="_blank">hier</a>.</p><p><span style="text-decoration: underline;">A
 nmerkung:</span></p><p>Mitglieder, die gerne mitmachen möchten, melden sich
  bitte bei <span id="cloakc001efbe4ac397d08d880681df278542">This email addr
 ess is being protected from spambots. You need JavaScript enabled to view i
 t.</span><script type='text/javascript'>
				document.getElementById('cloak
 c001efbe4ac397d08d880681df278542').innerHTML = '';
				var prefix = '&#109;
 a' + 'i&#108;' + '&#116;o';
				var path = 'hr' + 'ef' + '=';
				var addyc
 001efbe4ac397d08d880681df278542 = 'm&#105;ch&#97;&#101;l.t&#111;sch' + '&#6
 4;';
				addyc001efbe4ac397d08d880681df278542 = addyc001efbe4ac397d08d88068
 1df278542 + 'lrvd' + '&#46;' + 'd&#101;';
				var addy_textc001efbe4ac397d0
 8d880681df278542 = 'M&#105;ch&#97;&#101;l T&#111;sch';document.getElementBy
 Id('cloakc001efbe4ac397d08d880681df278542').innerHTML += '<a ' + path + '\'
 ' + prefix + ':' + addyc001efbe4ac397d08d880681df278542 + '\'>'+addy_textc0
 01efbe4ac397d08d880681df278542+'<\/a>';
		</script>. Die geleisteten Stunde
 n werden als Arbeitsstunden angerechnet. </p>
DTSTAMP:20260422T112530
DTSTART;TZID=Europe/Berlin:20140810T100000
DTEND;TZID=Europe/Berlin:20140810T150000
SEQUENCE:0
TRANSP:OPAQUE
END:VEVENT
END:VCALENDAR