BEGIN:VCALENDAR
VERSION:2.0
PRODID:-//jEvents 2.0 for Joomla//EN
CALSCALE:GREGORIAN
METHOD:PUBLISH
BEGIN:VTIMEZONE
TZID:Europe/Berlin
BEGIN:STANDARD
DTSTART:20141106T090000
RDATE:20150329T030000
TZOFFSETFROM:+0200
TZOFFSETTO:+0100
TZNAME:Europe/Berlin CET
END:STANDARD
BEGIN:STANDARD
DTSTART:20151025T020000
RDATE:20160327T030000
TZOFFSETFROM:+0200
TZOFFSETTO:+0100
TZNAME:Europe/Berlin CET
END:STANDARD
BEGIN:STANDARD
DTSTART:20161030T020000
RDATE:20170326T030000
TZOFFSETFROM:+0200
TZOFFSETTO:+0100
TZNAME:Europe/Berlin CET
END:STANDARD
BEGIN:STANDARD
DTSTART:20171029T020000
RDATE:20180325T030000
TZOFFSETFROM:+0200
TZOFFSETTO:+0100
TZNAME:Europe/Berlin CET
END:STANDARD
BEGIN:STANDARD
DTSTART:20181028T020000
RDATE:20190331T030000
TZOFFSETFROM:+0200
TZOFFSETTO:+0100
TZNAME:Europe/Berlin CET
END:STANDARD
BEGIN:STANDARD
DTSTART:20191027T020000
RDATE:20200329T030000
TZOFFSETFROM:+0200
TZOFFSETTO:+0100
TZNAME:Europe/Berlin CET
END:STANDARD
BEGIN:STANDARD
DTSTART:20201025T020000
RDATE:20210328T030000
TZOFFSETFROM:+0200
TZOFFSETTO:+0100
TZNAME:Europe/Berlin CET
END:STANDARD
BEGIN:STANDARD
DTSTART:20211031T020000
RDATE:20220327T030000
TZOFFSETFROM:+0200
TZOFFSETTO:+0100
TZNAME:Europe/Berlin CET
END:STANDARD
BEGIN:STANDARD
DTSTART:20221030T020000
RDATE:20230326T030000
TZOFFSETFROM:+0200
TZOFFSETTO:+0100
TZNAME:Europe/Berlin CET
END:STANDARD
BEGIN:STANDARD
DTSTART:20231029T020000
RDATE:20240331T030000
TZOFFSETFROM:+0200
TZOFFSETTO:+0100
TZNAME:Europe/Berlin CET
END:STANDARD
BEGIN:STANDARD
DTSTART:20241027T020000
RDATE:20250330T030000
TZOFFSETFROM:+0200
TZOFFSETTO:+0100
TZNAME:Europe/Berlin CET
END:STANDARD
BEGIN:STANDARD
DTSTART:20251026T020000
RDATE:20260329T030000
TZOFFSETFROM:+0200
TZOFFSETTO:+0100
TZNAME:Europe/Berlin CET
END:STANDARD
BEGIN:DAYLIGHT
DTSTART:20150329T030000
RDATE:20151025T020000
TZOFFSETFROM:+0100
TZOFFSETTO:+0200
TZNAME:Europe/Berlin CEST
END:DAYLIGHT
BEGIN:DAYLIGHT
DTSTART:20160327T030000
RDATE:20161030T020000
TZOFFSETFROM:+0100
TZOFFSETTO:+0200
TZNAME:Europe/Berlin CEST
END:DAYLIGHT
BEGIN:DAYLIGHT
DTSTART:20170326T030000
RDATE:20171029T020000
TZOFFSETFROM:+0100
TZOFFSETTO:+0200
TZNAME:Europe/Berlin CEST
END:DAYLIGHT
BEGIN:DAYLIGHT
DTSTART:20180325T030000
RDATE:20181028T020000
TZOFFSETFROM:+0100
TZOFFSETTO:+0200
TZNAME:Europe/Berlin CEST
END:DAYLIGHT
BEGIN:DAYLIGHT
DTSTART:20190331T030000
RDATE:20191027T020000
TZOFFSETFROM:+0100
TZOFFSETTO:+0200
TZNAME:Europe/Berlin CEST
END:DAYLIGHT
BEGIN:DAYLIGHT
DTSTART:20200329T030000
RDATE:20201025T020000
TZOFFSETFROM:+0100
TZOFFSETTO:+0200
TZNAME:Europe/Berlin CEST
END:DAYLIGHT
BEGIN:DAYLIGHT
DTSTART:20210328T030000
RDATE:20211031T020000
TZOFFSETFROM:+0100
TZOFFSETTO:+0200
TZNAME:Europe/Berlin CEST
END:DAYLIGHT
BEGIN:DAYLIGHT
DTSTART:20220327T030000
RDATE:20221030T020000
TZOFFSETFROM:+0100
TZOFFSETTO:+0200
TZNAME:Europe/Berlin CEST
END:DAYLIGHT
BEGIN:DAYLIGHT
DTSTART:20230326T030000
RDATE:20231029T020000
TZOFFSETFROM:+0100
TZOFFSETTO:+0200
TZNAME:Europe/Berlin CEST
END:DAYLIGHT
BEGIN:DAYLIGHT
DTSTART:20240331T030000
RDATE:20241027T020000
TZOFFSETFROM:+0100
TZOFFSETTO:+0200
TZNAME:Europe/Berlin CEST
END:DAYLIGHT
BEGIN:DAYLIGHT
DTSTART:20250330T030000
RDATE:20251026T020000
TZOFFSETFROM:+0100
TZOFFSETTO:+0200
TZNAME:Europe/Berlin CEST
END:DAYLIGHT
END:VTIMEZONE
BEGIN:VEVENT
UID:c11af34ba079fa078fbe85db68fb1a65
CATEGORIES:LRVD Allgemein
CREATED:20150225T211506
SUMMARY:Stegeinsatz Herbst 2015
LOCATION:Bootshaus
DESCRIPTION:Wie jedes Jahr heißt es auch dieses Jahr, klarmachen für´s Wintertrainig. D
 ieses Jahr treffen wir uns dazu am Samstag den 7. November 9.00 Uhr zum Arb
 eitseinsatz. Als Arbeiten stehen dabei unter anderen folgende an: \n* falls
  noch nicht geschehen Boote umlagern\n* Wintereinhausung aufbauen\n* Steg a
 us dem Wasser nehmen und reinigen\n* Kraftraum reinigen\n* und mehr\nDamit 
 wir die Verteilung der Arbeiten gut Planen können, schreibt euch entweder i
 n die Liste im Bootshaus ein oder meldet euch bei This email address is bei
 ng protected from spambots. You need JavaScript enabled to view it.
				doc
 ument.getElementById('cloak0acb91b7c466f7edf951be568b211441').innerHTML = '
 ';
				var prefix = '&#109;a' + 'i&#108;' + '&#116;o';
				var path = 'hr' 
 + 'ef' + '=';
				var addy0acb91b7c466f7edf951be568b211441 = 'pr&#111;j&#10
 1;kt&#101;' + '&#64;';
				addy0acb91b7c466f7edf951be568b211441 = addy0acb9
 1b7c466f7edf951be568b211441 + 'lrvd' + '&#46;' + 'd&#101;';
				var addy_te
 xt0acb91b7c466f7edf951be568b211441 = 'pr&#111;j&#101;kt&#101;' + '&#64;' + 
 'lrvd' + '&#46;' + 'd&#101;';document.getElementById('cloak0acb91b7c466f7ed
 f951be568b211441').innerHTML += '<a ' + path + '\'' + prefix + ':' + addy0a
 cb91b7c466f7edf951be568b211441 + '\'>'+addy_text0acb91b7c466f7edf951be568b2
 11441+'';
		\nder Vorstand\n
X-ALT-DESC;FMTTYPE=text/html:<p>Wie jedes Jahr heißt es auch dieses Jahr, klarmachen für´s Wintertrainig
 . Dieses Jahr treffen wir uns dazu am Samstag den 7. November 9.00 Uhr zum 
 Arbeitseinsatz. Als Arbeiten stehen dabei unter anderen folgende an: </p><p
 >* falls noch nicht geschehen Boote umlagern</p><p>* Wintereinhausung aufba
 uen</p><p>* Steg aus dem Wasser nehmen und reinigen</p><p>* Kraftraum reini
 gen</p><p>* und mehr</p><p>Damit wir die Verteilung der Arbeiten gut Planen
  können, schreibt euch entweder in die Liste im Bootshaus ein oder meldet e
 uch bei <span id="cloak0acb91b7c466f7edf951be568b211441">This email address
  is being protected from spambots. You need JavaScript enabled to view it.<
 /span><script type='text/javascript'>
				document.getElementById('cloak0ac
 b91b7c466f7edf951be568b211441').innerHTML = '';
				var prefix = '&#109;a' 
 + 'i&#108;' + '&#116;o';
				var path = 'hr' + 'ef' + '=';
				var addy0acb
 91b7c466f7edf951be568b211441 = 'pr&#111;j&#101;kt&#101;' + '&#64;';
				add
 y0acb91b7c466f7edf951be568b211441 = addy0acb91b7c466f7edf951be568b211441 + 
 'lrvd' + '&#46;' + 'd&#101;';
				var addy_text0acb91b7c466f7edf951be568b21
 1441 = 'pr&#111;j&#101;kt&#101;' + '&#64;' + 'lrvd' + '&#46;' + 'd&#101;';d
 ocument.getElementById('cloak0acb91b7c466f7edf951be568b211441').innerHTML +
 = '<a ' + path + '\'' + prefix + ':' + addy0acb91b7c466f7edf951be568b211441
  + '\'>'+addy_text0acb91b7c466f7edf951be568b211441+'<\/a>';
		</script></p>
 <p>der Vorstand</p>
DTSTAMP:20260422T132608
DTSTART;TZID=Europe/Berlin:20151107T090000
DTEND;TZID=Europe/Berlin:20151107T170000
SEQUENCE:0
TRANSP:OPAQUE
END:VEVENT
END:VCALENDAR