BEGIN:VCALENDAR
VERSION:2.0
PRODID:-//jEvents 2.0 for Joomla//EN
CALSCALE:GREGORIAN
METHOD:PUBLISH
BEGIN:VTIMEZONE
TZID:Europe/Berlin
BEGIN:STANDARD
DTSTART:20151025T020000
RDATE:20160327T030000
TZOFFSETFROM:+0200
TZOFFSETTO:+0100
TZNAME:Europe/Berlin CET
END:STANDARD
BEGIN:STANDARD
DTSTART:20161030T020000
RDATE:20170326T030000
TZOFFSETFROM:+0200
TZOFFSETTO:+0100
TZNAME:Europe/Berlin CET
END:STANDARD
BEGIN:STANDARD
DTSTART:20171029T020000
RDATE:20180325T030000
TZOFFSETFROM:+0200
TZOFFSETTO:+0100
TZNAME:Europe/Berlin CET
END:STANDARD
BEGIN:STANDARD
DTSTART:20181028T020000
RDATE:20190331T030000
TZOFFSETFROM:+0200
TZOFFSETTO:+0100
TZNAME:Europe/Berlin CET
END:STANDARD
BEGIN:STANDARD
DTSTART:20191027T020000
RDATE:20200329T030000
TZOFFSETFROM:+0200
TZOFFSETTO:+0100
TZNAME:Europe/Berlin CET
END:STANDARD
BEGIN:STANDARD
DTSTART:20201025T020000
RDATE:20210328T030000
TZOFFSETFROM:+0200
TZOFFSETTO:+0100
TZNAME:Europe/Berlin CET
END:STANDARD
BEGIN:STANDARD
DTSTART:20211031T020000
RDATE:20220327T030000
TZOFFSETFROM:+0200
TZOFFSETTO:+0100
TZNAME:Europe/Berlin CET
END:STANDARD
BEGIN:STANDARD
DTSTART:20221030T020000
RDATE:20230326T030000
TZOFFSETFROM:+0200
TZOFFSETTO:+0100
TZNAME:Europe/Berlin CET
END:STANDARD
BEGIN:STANDARD
DTSTART:20231029T020000
RDATE:20240331T030000
TZOFFSETFROM:+0200
TZOFFSETTO:+0100
TZNAME:Europe/Berlin CET
END:STANDARD
BEGIN:STANDARD
DTSTART:20241027T020000
RDATE:20250330T030000
TZOFFSETFROM:+0200
TZOFFSETTO:+0100
TZNAME:Europe/Berlin CET
END:STANDARD
BEGIN:STANDARD
DTSTART:20251026T020000
RDATE:20260329T030000
TZOFFSETFROM:+0200
TZOFFSETTO:+0100
TZNAME:Europe/Berlin CET
END:STANDARD
BEGIN:DAYLIGHT
DTSTART:20150411T170000
RDATE:20151025T020000
TZOFFSETFROM:+0100
TZOFFSETTO:+0200
TZNAME:Europe/Berlin CEST
END:DAYLIGHT
BEGIN:DAYLIGHT
DTSTART:20160327T030000
RDATE:20161030T020000
TZOFFSETFROM:+0100
TZOFFSETTO:+0200
TZNAME:Europe/Berlin CEST
END:DAYLIGHT
BEGIN:DAYLIGHT
DTSTART:20170326T030000
RDATE:20171029T020000
TZOFFSETFROM:+0100
TZOFFSETTO:+0200
TZNAME:Europe/Berlin CEST
END:DAYLIGHT
BEGIN:DAYLIGHT
DTSTART:20180325T030000
RDATE:20181028T020000
TZOFFSETFROM:+0100
TZOFFSETTO:+0200
TZNAME:Europe/Berlin CEST
END:DAYLIGHT
BEGIN:DAYLIGHT
DTSTART:20190331T030000
RDATE:20191027T020000
TZOFFSETFROM:+0100
TZOFFSETTO:+0200
TZNAME:Europe/Berlin CEST
END:DAYLIGHT
BEGIN:DAYLIGHT
DTSTART:20200329T030000
RDATE:20201025T020000
TZOFFSETFROM:+0100
TZOFFSETTO:+0200
TZNAME:Europe/Berlin CEST
END:DAYLIGHT
BEGIN:DAYLIGHT
DTSTART:20210328T030000
RDATE:20211031T020000
TZOFFSETFROM:+0100
TZOFFSETTO:+0200
TZNAME:Europe/Berlin CEST
END:DAYLIGHT
BEGIN:DAYLIGHT
DTSTART:20220327T030000
RDATE:20221030T020000
TZOFFSETFROM:+0100
TZOFFSETTO:+0200
TZNAME:Europe/Berlin CEST
END:DAYLIGHT
BEGIN:DAYLIGHT
DTSTART:20230326T030000
RDATE:20231029T020000
TZOFFSETFROM:+0100
TZOFFSETTO:+0200
TZNAME:Europe/Berlin CEST
END:DAYLIGHT
BEGIN:DAYLIGHT
DTSTART:20240331T030000
RDATE:20241027T020000
TZOFFSETFROM:+0100
TZOFFSETTO:+0200
TZNAME:Europe/Berlin CEST
END:DAYLIGHT
BEGIN:DAYLIGHT
DTSTART:20250330T030000
RDATE:20251026T020000
TZOFFSETFROM:+0100
TZOFFSETTO:+0200
TZNAME:Europe/Berlin CEST
END:DAYLIGHT
END:VTIMEZONE
BEGIN:VEVENT
UID:e5e9a25bcb93534befcdd11903e90603
CATEGORIES:LRVD Allgemein
CREATED:20160317T201412
SUMMARY:Schnuppertraining
LOCATION:LRVD Bootshaus
DESCRIPTION:Schnuppertraining 2016 für Erwachsene ohne RudererfahrungDas Schnuppertrain
 ing umfasst 4 Trainingseinheiten zu jeweils 2 Stunden.\nErster Treff ist am
  Montag, 11. April 2016 um 17 Uhr im Bootshaus.\nFür die Teilnahme wird ein
  Unkostenbeitrag von 50,00 € erhoben, welcher bei einer Mitgliedschaft auf 
 den ersten  Mitgliedsbeitrag angerechnet wird.\nBitte vorab um Anmeldung de
 r Interessenten - einfach E-Mail an This email address is being protected f
 rom spambots. You need JavaScript enabled to view it.
				document.getEleme
 ntById('cloak4614163c13e46fd201876c032a2900c4').innerHTML = '';
				var pre
 fix = '&#109;a' + 'i&#108;' + '&#116;o';
				var path = 'hr' + 'ef' + '=';

 				var addy4614163c13e46fd201876c032a2900c4 = 'v&#111;rst&#97;nd' + '&#64;
 ';
				addy4614163c13e46fd201876c032a2900c4 = addy4614163c13e46fd201876c032
 a2900c4 + 'lrvd' + '&#46;' + 'd&#101;?s&#117;bj&#101;ct=Schn&#117;pp&#101;r
 tr&#97;&#105;n&#105;ng 2016';
				var addy_text4614163c13e46fd201876c032a29
 00c4 = 'v&#111;rst&#97;nd' + '&#64;' + 'lrvd' + '&#46;' + 'd&#101;';documen
 t.getElementById('cloak4614163c13e46fd201876c032a2900c4').innerHTML += '<a 
 ' + path + '\'' + prefix + ':' + addy4614163c13e46fd201876c032a2900c4 + '\'
  rel="alternate">'+addy_text4614163c13e46fd201876c032a2900c4+'';
		.\n\n\n
X-ALT-DESC;FMTTYPE=text/html:<h3><strong>Schnuppertraining 2016 für Erwachsene ohne Rudererfahrung</stro
 ng></h3><p>Das Schnuppertraining umfasst 4 Trainingseinheiten zu jeweils 2 
 Stunden.</p><p>Erster Treff ist am Montag, 11. April 2016 um 17 Uhr im Boot
 shaus.</p><p>Für die Teilnahme wird ein Unkostenbeitrag von 50,00 € erhoben
 , welcher bei einer Mitgliedschaft auf den ersten  Mitgliedsbeitrag angerec
 hnet wird.</p><p>Bitte vorab um Anmeldung der Interessenten - einfach E-Mai
 l an <span id="cloak4614163c13e46fd201876c032a2900c4">This email address is
  being protected from spambots. You need JavaScript enabled to view it.</sp
 an><script type='text/javascript'>
				document.getElementById('cloak461416
 3c13e46fd201876c032a2900c4').innerHTML = '';
				var prefix = '&#109;a' + '
 i&#108;' + '&#116;o';
				var path = 'hr' + 'ef' + '=';
				var addy4614163
 c13e46fd201876c032a2900c4 = 'v&#111;rst&#97;nd' + '&#64;';
				addy4614163c
 13e46fd201876c032a2900c4 = addy4614163c13e46fd201876c032a2900c4 + 'lrvd' + 
 '&#46;' + 'd&#101;?s&#117;bj&#101;ct=Schn&#117;pp&#101;rtr&#97;&#105;n&#105
 ;ng 2016';
				var addy_text4614163c13e46fd201876c032a2900c4 = 'v&#111;rst&
 #97;nd' + '&#64;' + 'lrvd' + '&#46;' + 'd&#101;';document.getElementById('c
 loak4614163c13e46fd201876c032a2900c4').innerHTML += '<a ' + path + '\'' + p
 refix + ':' + addy4614163c13e46fd201876c032a2900c4 + '\' rel="alternate">'+
 addy_text4614163c13e46fd201876c032a2900c4+'<\/a>';
		</script>.<br /><br />
 </p>
DTSTAMP:20260422T054453
DTSTART;TZID=Europe/Berlin:20160411T170000
SEQUENCE:0
TRANSP:OPAQUE
END:VEVENT
END:VCALENDAR