BEGIN:VCALENDAR
VERSION:2.0
PRODID:-//jEvents 2.0 for Joomla//EN
CALSCALE:GREGORIAN
METHOD:PUBLISH
BEGIN:VTIMEZONE
TZID:Europe/Berlin
BEGIN:STANDARD
DTSTART:20151105T090000
RDATE:20160327T030000
TZOFFSETFROM:+0200
TZOFFSETTO:+0100
TZNAME:Europe/Berlin CET
END:STANDARD
BEGIN:STANDARD
DTSTART:20161030T020000
RDATE:20170326T030000
TZOFFSETFROM:+0200
TZOFFSETTO:+0100
TZNAME:Europe/Berlin CET
END:STANDARD
BEGIN:STANDARD
DTSTART:20171029T020000
RDATE:20180325T030000
TZOFFSETFROM:+0200
TZOFFSETTO:+0100
TZNAME:Europe/Berlin CET
END:STANDARD
BEGIN:STANDARD
DTSTART:20181028T020000
RDATE:20190331T030000
TZOFFSETFROM:+0200
TZOFFSETTO:+0100
TZNAME:Europe/Berlin CET
END:STANDARD
BEGIN:STANDARD
DTSTART:20191027T020000
RDATE:20200329T030000
TZOFFSETFROM:+0200
TZOFFSETTO:+0100
TZNAME:Europe/Berlin CET
END:STANDARD
BEGIN:STANDARD
DTSTART:20201025T020000
RDATE:20210328T030000
TZOFFSETFROM:+0200
TZOFFSETTO:+0100
TZNAME:Europe/Berlin CET
END:STANDARD
BEGIN:STANDARD
DTSTART:20211031T020000
RDATE:20220327T030000
TZOFFSETFROM:+0200
TZOFFSETTO:+0100
TZNAME:Europe/Berlin CET
END:STANDARD
BEGIN:STANDARD
DTSTART:20221030T020000
RDATE:20230326T030000
TZOFFSETFROM:+0200
TZOFFSETTO:+0100
TZNAME:Europe/Berlin CET
END:STANDARD
BEGIN:STANDARD
DTSTART:20231029T020000
RDATE:20240331T030000
TZOFFSETFROM:+0200
TZOFFSETTO:+0100
TZNAME:Europe/Berlin CET
END:STANDARD
BEGIN:STANDARD
DTSTART:20241027T020000
RDATE:20250330T030000
TZOFFSETFROM:+0200
TZOFFSETTO:+0100
TZNAME:Europe/Berlin CET
END:STANDARD
BEGIN:STANDARD
DTSTART:20251026T020000
RDATE:20260329T030000
TZOFFSETFROM:+0200
TZOFFSETTO:+0100
TZNAME:Europe/Berlin CET
END:STANDARD
BEGIN:DAYLIGHT
DTSTART:20160327T030000
RDATE:20161030T020000
TZOFFSETFROM:+0100
TZOFFSETTO:+0200
TZNAME:Europe/Berlin CEST
END:DAYLIGHT
BEGIN:DAYLIGHT
DTSTART:20170326T030000
RDATE:20171029T020000
TZOFFSETFROM:+0100
TZOFFSETTO:+0200
TZNAME:Europe/Berlin CEST
END:DAYLIGHT
BEGIN:DAYLIGHT
DTSTART:20180325T030000
RDATE:20181028T020000
TZOFFSETFROM:+0100
TZOFFSETTO:+0200
TZNAME:Europe/Berlin CEST
END:DAYLIGHT
BEGIN:DAYLIGHT
DTSTART:20190331T030000
RDATE:20191027T020000
TZOFFSETFROM:+0100
TZOFFSETTO:+0200
TZNAME:Europe/Berlin CEST
END:DAYLIGHT
BEGIN:DAYLIGHT
DTSTART:20200329T030000
RDATE:20201025T020000
TZOFFSETFROM:+0100
TZOFFSETTO:+0200
TZNAME:Europe/Berlin CEST
END:DAYLIGHT
BEGIN:DAYLIGHT
DTSTART:20210328T030000
RDATE:20211031T020000
TZOFFSETFROM:+0100
TZOFFSETTO:+0200
TZNAME:Europe/Berlin CEST
END:DAYLIGHT
BEGIN:DAYLIGHT
DTSTART:20220327T030000
RDATE:20221030T020000
TZOFFSETFROM:+0100
TZOFFSETTO:+0200
TZNAME:Europe/Berlin CEST
END:DAYLIGHT
BEGIN:DAYLIGHT
DTSTART:20230326T030000
RDATE:20231029T020000
TZOFFSETFROM:+0100
TZOFFSETTO:+0200
TZNAME:Europe/Berlin CEST
END:DAYLIGHT
BEGIN:DAYLIGHT
DTSTART:20240331T030000
RDATE:20241027T020000
TZOFFSETFROM:+0100
TZOFFSETTO:+0200
TZNAME:Europe/Berlin CEST
END:DAYLIGHT
BEGIN:DAYLIGHT
DTSTART:20250330T030000
RDATE:20251026T020000
TZOFFSETFROM:+0100
TZOFFSETTO:+0200
TZNAME:Europe/Berlin CEST
END:DAYLIGHT
END:VTIMEZONE
BEGIN:VEVENT
UID:ab0bd9572f739892519c81f8c82ed232
CATEGORIES:LRVD Allgemein
CREATED:20160914T143221
SUMMARY:Arbeitseinsatz Herbst 2016
LOCATION:Bootshaus
DESCRIPTION:Wie jedes Jahr heißt es auch dieses Jahr, klarmachen für´s Wintertrainig. D
 ieses Jahr treffen wir uns dazu am Samstag den 5. November 9.00 Uhr zum Arb
 eitseinsatz. Als Arbeiten stehen dabei unter anderen folgende an:\n* falls 
 noch nicht geschehen Boote umlagern\n* Wintereinhausung aufbauen\n* Kraftra
 um reinigen\n* und mehr\nDamit wir die Verteilung der Arbeiten gut Planen k
 önnen, schreibt euch entweder in die Liste im Bootshaus ein oder meldet euc
 h bei This email address is being protected from spambots. You need JavaScr
 ipt enabled to view it.
				document.getElementById('cloak7a4c28e30825cb177
 10e097d6168de5b').innerHTML = '';
				var prefix = '&#109;a' + 'i&#108;' + 
 '&#116;o';
				var path = 'hr' + 'ef' + '=';
				var addy7a4c28e30825cb1771
 0e097d6168de5b = 'pr&#111;j&#101;kt&#101;' + '&#64;';
				addy7a4c28e30825c
 b17710e097d6168de5b = addy7a4c28e30825cb17710e097d6168de5b + 'lrvd' + '&#46
 ;' + 'd&#101;';
				var addy_text7a4c28e30825cb17710e097d6168de5b = 'pr&#11
 1;j&#101;kt&#101;' + '&#64;' + 'lrvd' + '&#46;' + 'd&#101;';document.getEle
 mentById('cloak7a4c28e30825cb17710e097d6168de5b').innerHTML += '<a ' + path
  + '\'' + prefix + ':' + addy7a4c28e30825cb17710e097d6168de5b + '\'>'+addy_
 text7a4c28e30825cb17710e097d6168de5b+'';
		\nder Vorstand\n
X-ALT-DESC;FMTTYPE=text/html:<p>Wie jedes Jahr heißt es auch dieses Jahr, klarmachen für´s Wintertrainig
 . Dieses Jahr treffen wir uns dazu am Samstag den 5. November 9.00 Uhr zum 
 Arbeitseinsatz. Als Arbeiten stehen dabei unter anderen folgende an:</p><p>
 * falls noch nicht geschehen Boote umlagern</p><p>* Wintereinhausung aufbau
 en</p><p>* Kraftraum reinigen</p><p>* und mehr</p><p>Damit wir die Verteilu
 ng der Arbeiten gut Planen können, schreibt euch entweder in die Liste im B
 ootshaus ein oder meldet euch bei <span id="cloak7a4c28e30825cb17710e097d61
 68de5b">This email address is being protected from spambots. You need JavaS
 cript enabled to view it.</span><script type='text/javascript'>
				documen
 t.getElementById('cloak7a4c28e30825cb17710e097d6168de5b').innerHTML = '';
	
 			var prefix = '&#109;a' + 'i&#108;' + '&#116;o';
				var path = 'hr' + 'e
 f' + '=';
				var addy7a4c28e30825cb17710e097d6168de5b = 'pr&#111;j&#101;kt
 &#101;' + '&#64;';
				addy7a4c28e30825cb17710e097d6168de5b = addy7a4c28e30
 825cb17710e097d6168de5b + 'lrvd' + '&#46;' + 'd&#101;';
				var addy_text7a
 4c28e30825cb17710e097d6168de5b = 'pr&#111;j&#101;kt&#101;' + '&#64;' + 'lrv
 d' + '&#46;' + 'd&#101;';document.getElementById('cloak7a4c28e30825cb17710e
 097d6168de5b').innerHTML += '<a ' + path + '\'' + prefix + ':' + addy7a4c28
 e30825cb17710e097d6168de5b + '\'>'+addy_text7a4c28e30825cb17710e097d6168de5
 b+'<\/a>';
		</script></p><p>der Vorstand</p>
DTSTAMP:20260422T114835
DTSTART;TZID=Europe/Berlin:20161105T090000
DTEND;TZID=Europe/Berlin:20161105T170000
SEQUENCE:0
TRANSP:OPAQUE
END:VEVENT
END:VCALENDAR