BEGIN:VCALENDAR
VERSION:2.0
PRODID:-//jEvents 2.0 for Joomla//EN
CALSCALE:GREGORIAN
METHOD:PUBLISH
BEGIN:VTIMEZONE
TZID:Europe/Berlin
BEGIN:STANDARD
DTSTART:20161220T150000
RDATE:20170326T030000
TZOFFSETFROM:+0200
TZOFFSETTO:+0100
TZNAME:Europe/Berlin CET
END:STANDARD
BEGIN:STANDARD
DTSTART:20171029T020000
RDATE:20180325T030000
TZOFFSETFROM:+0200
TZOFFSETTO:+0100
TZNAME:Europe/Berlin CET
END:STANDARD
BEGIN:STANDARD
DTSTART:20181028T020000
RDATE:20190331T030000
TZOFFSETFROM:+0200
TZOFFSETTO:+0100
TZNAME:Europe/Berlin CET
END:STANDARD
BEGIN:STANDARD
DTSTART:20191027T020000
RDATE:20200329T030000
TZOFFSETFROM:+0200
TZOFFSETTO:+0100
TZNAME:Europe/Berlin CET
END:STANDARD
BEGIN:STANDARD
DTSTART:20201025T020000
RDATE:20210328T030000
TZOFFSETFROM:+0200
TZOFFSETTO:+0100
TZNAME:Europe/Berlin CET
END:STANDARD
BEGIN:STANDARD
DTSTART:20211031T020000
RDATE:20220327T030000
TZOFFSETFROM:+0200
TZOFFSETTO:+0100
TZNAME:Europe/Berlin CET
END:STANDARD
BEGIN:STANDARD
DTSTART:20221030T020000
RDATE:20230326T030000
TZOFFSETFROM:+0200
TZOFFSETTO:+0100
TZNAME:Europe/Berlin CET
END:STANDARD
BEGIN:STANDARD
DTSTART:20231029T020000
RDATE:20240331T030000
TZOFFSETFROM:+0200
TZOFFSETTO:+0100
TZNAME:Europe/Berlin CET
END:STANDARD
BEGIN:STANDARD
DTSTART:20241027T020000
RDATE:20250330T030000
TZOFFSETFROM:+0200
TZOFFSETTO:+0100
TZNAME:Europe/Berlin CET
END:STANDARD
BEGIN:STANDARD
DTSTART:20251026T020000
RDATE:20260329T030000
TZOFFSETFROM:+0200
TZOFFSETTO:+0100
TZNAME:Europe/Berlin CET
END:STANDARD
BEGIN:DAYLIGHT
DTSTART:20170326T030000
RDATE:20171029T020000
TZOFFSETFROM:+0100
TZOFFSETTO:+0200
TZNAME:Europe/Berlin CEST
END:DAYLIGHT
BEGIN:DAYLIGHT
DTSTART:20180325T030000
RDATE:20181028T020000
TZOFFSETFROM:+0100
TZOFFSETTO:+0200
TZNAME:Europe/Berlin CEST
END:DAYLIGHT
BEGIN:DAYLIGHT
DTSTART:20190331T030000
RDATE:20191027T020000
TZOFFSETFROM:+0100
TZOFFSETTO:+0200
TZNAME:Europe/Berlin CEST
END:DAYLIGHT
BEGIN:DAYLIGHT
DTSTART:20200329T030000
RDATE:20201025T020000
TZOFFSETFROM:+0100
TZOFFSETTO:+0200
TZNAME:Europe/Berlin CEST
END:DAYLIGHT
BEGIN:DAYLIGHT
DTSTART:20210328T030000
RDATE:20211031T020000
TZOFFSETFROM:+0100
TZOFFSETTO:+0200
TZNAME:Europe/Berlin CEST
END:DAYLIGHT
BEGIN:DAYLIGHT
DTSTART:20220327T030000
RDATE:20221030T020000
TZOFFSETFROM:+0100
TZOFFSETTO:+0200
TZNAME:Europe/Berlin CEST
END:DAYLIGHT
BEGIN:DAYLIGHT
DTSTART:20230326T030000
RDATE:20231029T020000
TZOFFSETFROM:+0100
TZOFFSETTO:+0200
TZNAME:Europe/Berlin CEST
END:DAYLIGHT
BEGIN:DAYLIGHT
DTSTART:20240331T030000
RDATE:20241027T020000
TZOFFSETFROM:+0100
TZOFFSETTO:+0200
TZNAME:Europe/Berlin CEST
END:DAYLIGHT
BEGIN:DAYLIGHT
DTSTART:20250330T030000
RDATE:20251026T020000
TZOFFSETFROM:+0100
TZOFFSETTO:+0200
TZNAME:Europe/Berlin CEST
END:DAYLIGHT
END:VTIMEZONE
BEGIN:VEVENT
UID:96f1eb6454a2b27909a05ebdc8b00e61
CATEGORIES:LRVD Allgemein
CREATED:20171212T074541
SUMMARY:Feierlichen Übergabe der Zuwendungsbescheide
DESCRIPTION:In einem gemeinsamen Termin \n \nam Donnerstag, dem 21. Dezember 2017, um 1
 5 Uhr  \nSportstätte Laubegaster Ufer 8, 01279 Dresden  \n \nübergeben der 
 Staatsminister des Innern, Herr Markus Ulbig, und der Beigeordnete für Fina
 nzen, Personal und Recht, Herr Bürgermeister Dr. Peter Lames die Zuwendungs
 bescheide an den Vorstand des Vereins.  \n \nZugleich besteht die Gelegenhe
 it das Sportobjekt in Augenschein zu nehmen und einen Blick auf das Projekt
  zu werfen. \n
X-ALT-DESC;FMTTYPE=text/html:<p><span style="font-family: Arial; font-size: small;">In einem gemeinsamen
  Termin</span> <br /> <br /><span style="font-family: Arial; font-size: sma
 ll;"><b>am Donnerstag, dem 21. Dezember 2017, um 15 Uhr </b></span> <br /><
 span style="font-family: Arial; font-size: small;">Sportstätte Laubegaster 
 Ufer 8, 01279 Dresden </span> <br /> <br /><span style="font-family: Arial;
  font-size: small;">übergeben der Staatsminister des Innern, Herr Markus Ul
 big, und der Beigeordnete für Finanzen, Personal und Recht, Herr Bürgermeis
 ter Dr. Peter Lames die Zuwendungsbescheide an den Vorstand des Vereins. </
 span> <br /> <br /><span style="font-family: Arial; font-size: small;">Zugl
 eich besteht die Gelegenheit das Sportobjekt in Augenschein zu nehmen und e
 inen Blick auf das Projekt zu werfen. </span></p>
DTSTAMP:20260422T083519
DTSTART;TZID=Europe/Berlin:20171221T150000
DTEND;TZID=Europe/Berlin:20171221T160000
SEQUENCE:0
TRANSP:OPAQUE
END:VEVENT
END:VCALENDAR