BEGIN:VCALENDAR
VERSION:2.0
PRODID:-//jEvents 2.0 for Joomla//EN
CALSCALE:GREGORIAN
METHOD:PUBLISH
BEGIN:VTIMEZONE
TZID:Europe/Berlin
BEGIN:STANDARD
DTSTART:20131027T020000
RDATE:20140330T030000
TZOFFSETFROM:+0200
TZOFFSETTO:+0100
TZNAME:Europe/Berlin CET
END:STANDARD
BEGIN:STANDARD
DTSTART:20141026T020000
RDATE:20150329T030000
TZOFFSETFROM:+0200
TZOFFSETTO:+0100
TZNAME:Europe/Berlin CET
END:STANDARD
BEGIN:STANDARD
DTSTART:20151025T020000
RDATE:20160327T030000
TZOFFSETFROM:+0200
TZOFFSETTO:+0100
TZNAME:Europe/Berlin CET
END:STANDARD
BEGIN:STANDARD
DTSTART:20161030T020000
RDATE:20170326T030000
TZOFFSETFROM:+0200
TZOFFSETTO:+0100
TZNAME:Europe/Berlin CET
END:STANDARD
BEGIN:STANDARD
DTSTART:20171029T020000
RDATE:20180325T030000
TZOFFSETFROM:+0200
TZOFFSETTO:+0100
TZNAME:Europe/Berlin CET
END:STANDARD
BEGIN:STANDARD
DTSTART:20181028T020000
RDATE:20190331T030000
TZOFFSETFROM:+0200
TZOFFSETTO:+0100
TZNAME:Europe/Berlin CET
END:STANDARD
BEGIN:STANDARD
DTSTART:20191027T020000
RDATE:20200329T030000
TZOFFSETFROM:+0200
TZOFFSETTO:+0100
TZNAME:Europe/Berlin CET
END:STANDARD
BEGIN:STANDARD
DTSTART:20201025T020000
RDATE:20210328T030000
TZOFFSETFROM:+0200
TZOFFSETTO:+0100
TZNAME:Europe/Berlin CET
END:STANDARD
BEGIN:STANDARD
DTSTART:20211031T020000
RDATE:20220327T030000
TZOFFSETFROM:+0200
TZOFFSETTO:+0100
TZNAME:Europe/Berlin CET
END:STANDARD
BEGIN:STANDARD
DTSTART:20221030T020000
RDATE:20230326T030000
TZOFFSETFROM:+0200
TZOFFSETTO:+0100
TZNAME:Europe/Berlin CET
END:STANDARD
BEGIN:STANDARD
DTSTART:20231029T020000
RDATE:20240331T030000
TZOFFSETFROM:+0200
TZOFFSETTO:+0100
TZNAME:Europe/Berlin CET
END:STANDARD
BEGIN:STANDARD
DTSTART:20241027T020000
RDATE:20250330T030000
TZOFFSETFROM:+0200
TZOFFSETTO:+0100
TZNAME:Europe/Berlin CET
END:STANDARD
BEGIN:STANDARD
DTSTART:20251026T020000
RDATE:20260329T030000
TZOFFSETFROM:+0200
TZOFFSETTO:+0100
TZNAME:Europe/Berlin CET
END:STANDARD
BEGIN:DAYLIGHT
DTSTART:20130711T080000
RDATE:20131027T020000
TZOFFSETFROM:+0100
TZOFFSETTO:+0200
TZNAME:Europe/Berlin CEST
END:DAYLIGHT
BEGIN:DAYLIGHT
DTSTART:20140330T030000
RDATE:20141026T020000
TZOFFSETFROM:+0100
TZOFFSETTO:+0200
TZNAME:Europe/Berlin CEST
END:DAYLIGHT
BEGIN:DAYLIGHT
DTSTART:20150329T030000
RDATE:20151025T020000
TZOFFSETFROM:+0100
TZOFFSETTO:+0200
TZNAME:Europe/Berlin CEST
END:DAYLIGHT
BEGIN:DAYLIGHT
DTSTART:20160327T030000
RDATE:20161030T020000
TZOFFSETFROM:+0100
TZOFFSETTO:+0200
TZNAME:Europe/Berlin CEST
END:DAYLIGHT
BEGIN:DAYLIGHT
DTSTART:20170326T030000
RDATE:20171029T020000
TZOFFSETFROM:+0100
TZOFFSETTO:+0200
TZNAME:Europe/Berlin CEST
END:DAYLIGHT
BEGIN:DAYLIGHT
DTSTART:20180325T030000
RDATE:20181028T020000
TZOFFSETFROM:+0100
TZOFFSETTO:+0200
TZNAME:Europe/Berlin CEST
END:DAYLIGHT
BEGIN:DAYLIGHT
DTSTART:20190331T030000
RDATE:20191027T020000
TZOFFSETFROM:+0100
TZOFFSETTO:+0200
TZNAME:Europe/Berlin CEST
END:DAYLIGHT
BEGIN:DAYLIGHT
DTSTART:20200329T030000
RDATE:20201025T020000
TZOFFSETFROM:+0100
TZOFFSETTO:+0200
TZNAME:Europe/Berlin CEST
END:DAYLIGHT
BEGIN:DAYLIGHT
DTSTART:20210328T030000
RDATE:20211031T020000
TZOFFSETFROM:+0100
TZOFFSETTO:+0200
TZNAME:Europe/Berlin CEST
END:DAYLIGHT
BEGIN:DAYLIGHT
DTSTART:20220327T030000
RDATE:20221030T020000
TZOFFSETFROM:+0100
TZOFFSETTO:+0200
TZNAME:Europe/Berlin CEST
END:DAYLIGHT
BEGIN:DAYLIGHT
DTSTART:20230326T030000
RDATE:20231029T020000
TZOFFSETFROM:+0100
TZOFFSETTO:+0200
TZNAME:Europe/Berlin CEST
END:DAYLIGHT
BEGIN:DAYLIGHT
DTSTART:20240331T030000
RDATE:20241027T020000
TZOFFSETFROM:+0100
TZOFFSETTO:+0200
TZNAME:Europe/Berlin CEST
END:DAYLIGHT
BEGIN:DAYLIGHT
DTSTART:20250330T030000
RDATE:20251026T020000
TZOFFSETFROM:+0100
TZOFFSETTO:+0200
TZNAME:Europe/Berlin CEST
END:DAYLIGHT
END:VTIMEZONE
BEGIN:VEVENT
UID:6e520f4c0f11c807dc171a556fdf872e
CATEGORIES:LRVD Wettkämpfe
CREATED:20131217T145734
SUMMARY:Rudern gegen Krebs - Benefiz-Regatta
LOCATION:Dresden
DESCRIPTION:Die Benefiz-Regatta Rudern gegen Krebs (http://www.rudern-gegen-krebs.de/) 
 ist eine Initiative der "Stiftung Leben mit Krebs“.\nSeit 2005 wird diese R
 egatta bundesweit in Kooperation mit lokalen Rudervereinen und onkologische
 n Therapie-einrichtungen ausgetragen.\n\nDie Teilnehmer der Regatta - vor a
 llem Ärzte und Pfleger/innen - rudern aktiv zur Unterstützung eines guten Z
 wecks: Mit den Erlösen der Aktion werden u.a. Sporttherapeuten finanziert, 
 die gezielt Sportprogramme für Krebspatienten anbieten und Kurse durchführe
 n.\nHier der Artikel  <a href="http://www.spiegel.de/gesundheit/diagnose/ru
 dern-gegen-krebs-wie-sport-waehrend-der-chemo-helfen-kann-a-960837.html" ta
 rget="_blank">"Sport während der Chemo: Als ich im Boot saß, spürte ich die
  Übelkeit nicht mehr"</a> von Valentin Gensch (dpa (http://dpa.de/)), veröf
 fentlicht auf <a href="http://www.spiegel.de" target="_blank">SPIEGEL Onlin
 e</a>.\n
X-ALT-DESC;FMTTYPE=text/html:<p>Die Benefiz-Regatta <a href="http://www.rudern-gegen-krebs.de/" target="
 _blank"><em>Rudern gegen Krebs</em></a> ist eine Initiative der "Stiftung L
 eben mit Krebs“.</p><p>Seit 2005 wird diese Regatta bundesweit in Kooperati
 on mit lokalen Rudervereinen und onkologischen Therapie-einrichtungen ausge
 tragen.<br /><br />Die Teilnehmer der Regatta - vor allem Ärzte und Pfleger
 /innen - rudern aktiv zur Unterstützung eines guten Zwecks: Mit den Erlösen
  der Aktion werden u.a. Sporttherapeuten finanziert, die gezielt Sportprogr
 amme für Krebspatienten anbieten und Kurse durchführen.</p><p>Hier der Arti
 kel <em> <a href="http://www.spiegel.de/gesundheit/diagnose/rudern-gegen-kr
 ebs-wie-sport-waehrend-der-chemo-helfen-kann-a-960837.html" target="_blank"
 >"Sport während der Chemo: Als ich im Boot saß, spürte ich die Übelkeit nic
 ht mehr"</a></em> von Valentin Gensch (<a href="http://dpa.de/" target="_bl
 ank">dpa</a>), veröffentlicht auf <a href="http://www.spiegel.de" target="_
 blank">SPIEGEL Online</a>.</p>
CONTACT:http://www.rudern-gegen-krebs.de/7063.htm
DTSTAMP:20260422T100714
DTSTART;TZID=Europe/Berlin:20140712T080000
DTEND;TZID=Europe/Berlin:20140712T170000
SEQUENCE:0
TRANSP:OPAQUE
END:VEVENT
END:VCALENDAR