BEGIN:VCALENDAR
VERSION:2.0
PRODID:-//jEvents 2.0 for Joomla//EN
CALSCALE:GREGORIAN
METHOD:PUBLISH
BEGIN:VTIMEZONE
TZID:Europe/Berlin
BEGIN:STANDARD
DTSTART:20231029T020000
RDATE:20240331T030000
TZOFFSETFROM:+0200
TZOFFSETTO:+0100
TZNAME:Europe/Berlin CET
END:STANDARD
BEGIN:STANDARD
DTSTART:20241027T020000
RDATE:20250330T030000
TZOFFSETFROM:+0200
TZOFFSETTO:+0100
TZNAME:Europe/Berlin CET
END:STANDARD
BEGIN:STANDARD
DTSTART:20251026T020000
RDATE:20260329T030000
TZOFFSETFROM:+0200
TZOFFSETTO:+0100
TZNAME:Europe/Berlin CET
END:STANDARD
BEGIN:DAYLIGHT
DTSTART:20230921T000000
RDATE:20231029T020000
TZOFFSETFROM:+0100
TZOFFSETTO:+0200
TZNAME:Europe/Berlin CEST
END:DAYLIGHT
BEGIN:DAYLIGHT
DTSTART:20240331T030000
RDATE:20241027T020000
TZOFFSETFROM:+0100
TZOFFSETTO:+0200
TZNAME:Europe/Berlin CEST
END:DAYLIGHT
BEGIN:DAYLIGHT
DTSTART:20250330T030000
RDATE:20251026T020000
TZOFFSETFROM:+0100
TZOFFSETTO:+0200
TZNAME:Europe/Berlin CEST
END:DAYLIGHT
END:VTIMEZONE
BEGIN:VEVENT
UID:691ab6dfaa0e60b7f46cfcf74097d85a
CATEGORIES:LRVD Wettkämpfe
CREATED:20240112T000312
SUMMARY:33. Landesrudermeisterschaft Sachsen und Thüringen
LOCATION:Eilenburg
DESCRIPTION:https://meldeportal.rudern.de/regattas/018bcd4c-fe37-730e-856b-b08cefb04fab
 \n
X-ALT-DESC;FMTTYPE=text/html:<p><a href="https://meldeportal.rudern.de/regattas/018bcd4c-fe37-730e-856b-
 b08cefb04fab">https://meldeportal.rudern.de/regattas/018bcd4c-fe37-730e-856
 b-b08cefb04fab</a></p>
DTSTAMP:20260422T080415
DTSTART;TZID=Europe/Berlin;VALUE=DATE:20240921
DTEND;TZID=Europe/Berlin;VALUE=DATE:20240923
SEQUENCE:0
TRANSP:OPAQUE
END:VEVENT
END:VCALENDAR