BEGIN:VCALENDAR
VERSION:2.0
PRODID:-//jEvents 2.0 for Joomla//EN
CALSCALE:GREGORIAN
METHOD:PUBLISH
BEGIN:VTIMEZONE
TZID:Europe/Berlin
BEGIN:STANDARD
DTSTART:20240125T000000
RDATE:20240331T030000
TZOFFSETFROM:+0200
TZOFFSETTO:+0100
TZNAME:Europe/Berlin CET
END:STANDARD
BEGIN:STANDARD
DTSTART:20241027T020000
RDATE:20250330T030000
TZOFFSETFROM:+0200
TZOFFSETTO:+0100
TZNAME:Europe/Berlin CET
END:STANDARD
BEGIN:STANDARD
DTSTART:20251026T020000
RDATE:20260329T030000
TZOFFSETFROM:+0200
TZOFFSETTO:+0100
TZNAME:Europe/Berlin CET
END:STANDARD
BEGIN:DAYLIGHT
DTSTART:20240331T030000
RDATE:20241027T020000
TZOFFSETFROM:+0100
TZOFFSETTO:+0200
TZNAME:Europe/Berlin CEST
END:DAYLIGHT
BEGIN:DAYLIGHT
DTSTART:20250330T030000
RDATE:20251026T020000
TZOFFSETFROM:+0100
TZOFFSETTO:+0200
TZNAME:Europe/Berlin CEST
END:DAYLIGHT
END:VTIMEZONE
BEGIN:VEVENT
UID:370c2ba845a2f4fd2b100ae68d3492f8
CATEGORIES:LRVD Wettkämpfe
CREATED:20241229T223656
SUMMARY:Mitteldeutsche Ruderergometer-Meisterschaft
LOCATION:Brüderstraße 15\, 04103 Leipzig
DESCRIPTION:Ausschreibung: https://meldeportal.rudern.de/regattas/019271b2-d925-7228-a6
 65-b73346f55a87\n
X-ALT-DESC;FMTTYPE=text/html:<p>Ausschreibung: <a href="https://meldeportal.rudern.de/regattas/019271b2-
 d925-7228-a665-b73346f55a87">https://meldeportal.rudern.de/regattas/019271b
 2-d925-7228-a665-b73346f55a87</a></p>
DTSTAMP:20260422T093529
DTSTART;TZID=Europe/Berlin;VALUE=DATE:20250125
DTEND;TZID=Europe/Berlin;VALUE=DATE:20250126
SEQUENCE:0
TRANSP:OPAQUE
END:VEVENT
END:VCALENDAR