BEGIN:VCALENDAR
VERSION:2.0
PRODID:-//jEvents 2.0 for Joomla//EN
CALSCALE:GREGORIAN
METHOD:PUBLISH
BEGIN:VTIMEZONE
TZID:Europe/Berlin
BEGIN:STANDARD
DTSTART:20240308T000000
RDATE:20240331T030000
TZOFFSETFROM:+0200
TZOFFSETTO:+0100
TZNAME:Europe/Berlin CET
END:STANDARD
BEGIN:STANDARD
DTSTART:20241027T020000
RDATE:20250330T030000
TZOFFSETFROM:+0200
TZOFFSETTO:+0100
TZNAME:Europe/Berlin CET
END:STANDARD
BEGIN:STANDARD
DTSTART:20251026T020000
RDATE:20260329T030000
TZOFFSETFROM:+0200
TZOFFSETTO:+0100
TZNAME:Europe/Berlin CET
END:STANDARD
BEGIN:DAYLIGHT
DTSTART:20240331T030000
RDATE:20241027T020000
TZOFFSETFROM:+0100
TZOFFSETTO:+0200
TZNAME:Europe/Berlin CEST
END:DAYLIGHT
BEGIN:DAYLIGHT
DTSTART:20250330T030000
RDATE:20251026T020000
TZOFFSETFROM:+0100
TZOFFSETTO:+0200
TZNAME:Europe/Berlin CEST
END:DAYLIGHT
END:VTIMEZONE
BEGIN:VEVENT
UID:8992352e3b3f0624d0d0e07156e79802
CATEGORIES:LRVD Wettkämpfe
CREATED:20241229T223738
SUMMARY:Talentiade Dresden
DESCRIPTION:<p>Ausschreibung: <a href="https://www.sachsen-rudern.de/wp-content/uploads
 /2024/12/RJS_2025_Talentiaden_Ausschreibung.pdf">https://www.sachsen-rudern
 .de/wp-content/uploads/2024/12/RJS_2025_Talentiaden_Ausschreibung.pdf</a></
 p>
DTSTAMP:20260422T054539
DTSTART;TZID=Europe/Berlin;VALUE=DATE:20250309
DTEND;TZID=Europe/Berlin;VALUE=DATE:20250310
SEQUENCE:0
TRANSP:OPAQUE
END:VEVENT
END:VCALENDAR