BEGIN:VCALENDAR
VERSION:2.0
PRODID:-//jEvents 2.0 for Joomla//EN
CALSCALE:GREGORIAN
METHOD:PUBLISH
BEGIN:VTIMEZONE
TZID:Europe/Berlin
BEGIN:STANDARD
DTSTART:20241027T020000
RDATE:20250330T030000
TZOFFSETFROM:+0200
TZOFFSETTO:+0100
TZNAME:Europe/Berlin CET
END:STANDARD
BEGIN:STANDARD
DTSTART:20251026T020000
RDATE:20260329T030000
TZOFFSETFROM:+0200
TZOFFSETTO:+0100
TZNAME:Europe/Berlin CET
END:STANDARD
BEGIN:DAYLIGHT
DTSTART:20240509T000000
RDATE:20241027T020000
TZOFFSETFROM:+0100
TZOFFSETTO:+0200
TZNAME:Europe/Berlin CEST
END:DAYLIGHT
BEGIN:DAYLIGHT
DTSTART:20250330T030000
RDATE:20251026T020000
TZOFFSETFROM:+0100
TZOFFSETTO:+0200
TZNAME:Europe/Berlin CEST
END:DAYLIGHT
END:VTIMEZONE
BEGIN:VEVENT
UID:eac82437478cb59dc7041cd9e7ce67f7
CATEGORIES:LRVD Wettkämpfe
CREATED:20241229T224051
SUMMARY:33. Eilenburger Frühjahrsregatta
DESCRIPTION:Ausschreibung: https://meldeportal.rudern.de/regattas/0193cab6-47f1-73dc-af
 48-42dfba037aab\n
X-ALT-DESC;FMTTYPE=text/html:<p>Ausschreibung: <a href="https://meldeportal.rudern.de/regattas/0193cab6-
 47f1-73dc-af48-42dfba037aab">https://meldeportal.rudern.de/regattas/0193cab
 6-47f1-73dc-af48-42dfba037aab</a></p>
DTSTAMP:20260422T023537
DTSTART;TZID=Europe/Berlin;VALUE=DATE:20250510
DTEND;TZID=Europe/Berlin;VALUE=DATE:20250512
SEQUENCE:0
TRANSP:OPAQUE
END:VEVENT
END:VCALENDAR