BEGIN:VCALENDAR
VERSION:2.0
PRODID:-//jEvents 2.0 for Joomla//EN
CALSCALE:GREGORIAN
METHOD:PUBLISH
BEGIN:VTIMEZONE
TZID:Europe/Berlin
BEGIN:STANDARD
DTSTART:20241027T020000
RDATE:20250330T030000
TZOFFSETFROM:+0200
TZOFFSETTO:+0100
TZNAME:Europe/Berlin CET
END:STANDARD
BEGIN:STANDARD
DTSTART:20251026T020000
RDATE:20260329T030000
TZOFFSETFROM:+0200
TZOFFSETTO:+0100
TZNAME:Europe/Berlin CET
END:STANDARD
BEGIN:DAYLIGHT
DTSTART:20240613T000000
RDATE:20241027T020000
TZOFFSETFROM:+0100
TZOFFSETTO:+0200
TZNAME:Europe/Berlin CEST
END:DAYLIGHT
BEGIN:DAYLIGHT
DTSTART:20250330T030000
RDATE:20251026T020000
TZOFFSETFROM:+0100
TZOFFSETTO:+0200
TZNAME:Europe/Berlin CEST
END:DAYLIGHT
END:VTIMEZONE
BEGIN:VEVENT
UID:cbda5e659ae04f9c485314ed07aeac83
CATEGORIES:LRVD Wettkämpfe
CREATED:20241229T224906
SUMMARY:51. Bad Lobensteiner Ruder-Regatta & SprintCUP
DESCRIPTION:<p>Ausschreibung: <a href="https://meldeportal.rudern.de/regattas/0192aa88-
 f5d7-72f9-a436-53b1aea92535">https://meldeportal.rudern.de/regattas/0192aa8
 8-f5d7-72f9-a436-53b1aea92535</a></p>
DTSTAMP:20260422T052558
DTSTART;TZID=Europe/Berlin;VALUE=DATE:20250614
DTEND;TZID=Europe/Berlin;VALUE=DATE:20250616
SEQUENCE:0
TRANSP:OPAQUE
END:VEVENT
END:VCALENDAR