BEGIN:VCALENDAR
VERSION:2.0
PRODID:-//jEvents 2.0 for Joomla//EN
CALSCALE:GREGORIAN
METHOD:PUBLISH
BEGIN:VTIMEZONE
TZID:Europe/Berlin
BEGIN:STANDARD
DTSTART:20241027T020000
RDATE:20250330T030000
TZOFFSETFROM:+0200
TZOFFSETTO:+0100
TZNAME:Europe/Berlin CET
END:STANDARD
BEGIN:STANDARD
DTSTART:20251026T020000
RDATE:20260329T030000
TZOFFSETFROM:+0200
TZOFFSETTO:+0100
TZNAME:Europe/Berlin CET
END:STANDARD
BEGIN:DAYLIGHT
DTSTART:20240625T000000
RDATE:20241027T020000
TZOFFSETFROM:+0100
TZOFFSETTO:+0200
TZNAME:Europe/Berlin CEST
END:DAYLIGHT
BEGIN:DAYLIGHT
DTSTART:20250330T030000
RDATE:20251026T020000
TZOFFSETFROM:+0100
TZOFFSETTO:+0200
TZNAME:Europe/Berlin CEST
END:DAYLIGHT
END:VTIMEZONE
BEGIN:VEVENT
UID:40b95888cb647694bee704f94597cc66
CATEGORIES:LRVD Wettkämpfe
CREATED:20241229T225110
SUMMARY:56. Bundeswettbewerb
DESCRIPTION:Ausschreibung: https://meldeportal.rudern.de/regattas/018c8267-d6c0-7137-87
 f5-4a703aaa7a35\n
X-ALT-DESC;FMTTYPE=text/html:<p>Ausschreibung: <a href="https://meldeportal.rudern.de/regattas/018c8267-
 d6c0-7137-87f5-4a703aaa7a35">https://meldeportal.rudern.de/regattas/018c826
 7-d6c0-7137-87f5-4a703aaa7a35</a></p>
DTSTAMP:20260422T041028
DTSTART;TZID=Europe/Berlin;VALUE=DATE:20250626
DTEND;TZID=Europe/Berlin;VALUE=DATE:20250630
SEQUENCE:0
TRANSP:OPAQUE
END:VEVENT
END:VCALENDAR