BEGIN:VCALENDAR
VERSION:2.0
PRODID:-//jEvents 2.0 for Joomla//EN
CALSCALE:GREGORIAN
METHOD:PUBLISH
BEGIN:VTIMEZONE
TZID:Europe/Berlin
BEGIN:STANDARD
DTSTART:20241027T020000
RDATE:20250330T030000
TZOFFSETFROM:+0200
TZOFFSETTO:+0100
TZNAME:Europe/Berlin CET
END:STANDARD
BEGIN:STANDARD
DTSTART:20251026T020000
RDATE:20260329T030000
TZOFFSETFROM:+0200
TZOFFSETTO:+0100
TZNAME:Europe/Berlin CET
END:STANDARD
BEGIN:DAYLIGHT
DTSTART:20240926T000000
RDATE:20241027T020000
TZOFFSETFROM:+0100
TZOFFSETTO:+0200
TZNAME:Europe/Berlin CEST
END:DAYLIGHT
BEGIN:DAYLIGHT
DTSTART:20250330T030000
RDATE:20251026T020000
TZOFFSETFROM:+0100
TZOFFSETTO:+0200
TZNAME:Europe/Berlin CEST
END:DAYLIGHT
END:VTIMEZONE
BEGIN:VEVENT
UID:61dd18d49ea033b6c752c117f477cbd9
CATEGORIES:LRVD Wettkämpfe
CREATED:20241229T225522
SUMMARY:34. Landesmeisterschaft Sachsen/ Thüringen
DESCRIPTION:<p>Ausschreibung: <a href="https://meldeportal.rudern.de/regattas/019290f7-
 a10b-7351-be25-484b2177d1ee">https://meldeportal.rudern.de/regattas/019290f
 7-a10b-7351-be25-484b2177d1ee</a></p>
DTSTAMP:20260422T094701
DTSTART;TZID=Europe/Berlin;VALUE=DATE:20250927
DTEND;TZID=Europe/Berlin;VALUE=DATE:20250929
SEQUENCE:0
TRANSP:OPAQUE
END:VEVENT
END:VCALENDAR