BEGIN:VCALENDAR
VERSION:2.0
PRODID:-//jEvents 2.0 for Joomla//EN
CALSCALE:GREGORIAN
METHOD:PUBLISH
BEGIN:VTIMEZONE
TZID:Europe/Berlin
BEGIN:STANDARD
DTSTART:20241027T020000
RDATE:20250330T030000
TZOFFSETFROM:+0200
TZOFFSETTO:+0100
TZNAME:Europe/Berlin CET
END:STANDARD
BEGIN:STANDARD
DTSTART:20251026T020000
RDATE:20260329T030000
TZOFFSETFROM:+0200
TZOFFSETTO:+0100
TZNAME:Europe/Berlin CET
END:STANDARD
BEGIN:DAYLIGHT
DTSTART:20241024T000000
RDATE:20241027T020000
TZOFFSETFROM:+0100
TZOFFSETTO:+0200
TZNAME:Europe/Berlin CEST
END:DAYLIGHT
BEGIN:DAYLIGHT
DTSTART:20250330T030000
RDATE:20251026T020000
TZOFFSETFROM:+0100
TZOFFSETTO:+0200
TZNAME:Europe/Berlin CEST
END:DAYLIGHT
END:VTIMEZONE
BEGIN:VEVENT
UID:8254e5d96a7c0ccd66a23914e04883f6
CATEGORIES:LRVD Wettkämpfe
CREATED:20241229T225628
SUMMARY:51. Dresdner Elbepokal
DESCRIPTION:Ausschreibung: https://meldeportal.rudern.de/regattas/01938e33-28fe-72e5-bb
 bd-8059c0536050\n
X-ALT-DESC;FMTTYPE=text/html:<p>Ausschreibung: <a href="https://meldeportal.rudern.de/regattas/01938e33-
 28fe-72e5-bbbd-8059c0536050">https://meldeportal.rudern.de/regattas/01938e3
 3-28fe-72e5-bbbd-8059c0536050</a></p>
DTSTAMP:20260422T100714
DTSTART;TZID=Europe/Berlin;VALUE=DATE:20251025
DTEND;TZID=Europe/Berlin;VALUE=DATE:20251026
SEQUENCE:0
TRANSP:OPAQUE
END:VEVENT
END:VCALENDAR