BEGIN:VCALENDAR
VERSION:2.0
PRODID:-//jEvents 2.0 for Joomla//EN
CALSCALE:GREGORIAN
METHOD:PUBLISH
BEGIN:VTIMEZONE
TZID:Europe/Berlin
BEGIN:STANDARD
DTSTART:20131027T020000
RDATE:20140330T030000
TZOFFSETFROM:+0200
TZOFFSETTO:+0100
TZNAME:Europe/Berlin CET
END:STANDARD
BEGIN:STANDARD
DTSTART:20141026T020000
RDATE:20150329T030000
TZOFFSETFROM:+0200
TZOFFSETTO:+0100
TZNAME:Europe/Berlin CET
END:STANDARD
BEGIN:STANDARD
DTSTART:20151025T020000
RDATE:20160327T030000
TZOFFSETFROM:+0200
TZOFFSETTO:+0100
TZNAME:Europe/Berlin CET
END:STANDARD
BEGIN:STANDARD
DTSTART:20161030T020000
RDATE:20170326T030000
TZOFFSETFROM:+0200
TZOFFSETTO:+0100
TZNAME:Europe/Berlin CET
END:STANDARD
BEGIN:STANDARD
DTSTART:20171029T020000
RDATE:20180325T030000
TZOFFSETFROM:+0200
TZOFFSETTO:+0100
TZNAME:Europe/Berlin CET
END:STANDARD
BEGIN:STANDARD
DTSTART:20181028T020000
RDATE:20190331T030000
TZOFFSETFROM:+0200
TZOFFSETTO:+0100
TZNAME:Europe/Berlin CET
END:STANDARD
BEGIN:STANDARD
DTSTART:20191027T020000
RDATE:20200329T030000
TZOFFSETFROM:+0200
TZOFFSETTO:+0100
TZNAME:Europe/Berlin CET
END:STANDARD
BEGIN:STANDARD
DTSTART:20201025T020000
RDATE:20210328T030000
TZOFFSETFROM:+0200
TZOFFSETTO:+0100
TZNAME:Europe/Berlin CET
END:STANDARD
BEGIN:STANDARD
DTSTART:20211031T020000
RDATE:20220327T030000
TZOFFSETFROM:+0200
TZOFFSETTO:+0100
TZNAME:Europe/Berlin CET
END:STANDARD
BEGIN:STANDARD
DTSTART:20221030T020000
RDATE:20230326T030000
TZOFFSETFROM:+0200
TZOFFSETTO:+0100
TZNAME:Europe/Berlin CET
END:STANDARD
BEGIN:STANDARD
DTSTART:20231029T020000
RDATE:20240331T030000
TZOFFSETFROM:+0200
TZOFFSETTO:+0100
TZNAME:Europe/Berlin CET
END:STANDARD
BEGIN:STANDARD
DTSTART:20241027T020000
RDATE:20250330T030000
TZOFFSETFROM:+0200
TZOFFSETTO:+0100
TZNAME:Europe/Berlin CET
END:STANDARD
BEGIN:STANDARD
DTSTART:20251026T020000
RDATE:20260329T030000
TZOFFSETFROM:+0200
TZOFFSETTO:+0100
TZNAME:Europe/Berlin CET
END:STANDARD
BEGIN:DAYLIGHT
DTSTART:20130919T140000
RDATE:20131027T020000
TZOFFSETFROM:+0100
TZOFFSETTO:+0200
TZNAME:Europe/Berlin CEST
END:DAYLIGHT
BEGIN:DAYLIGHT
DTSTART:20140330T030000
RDATE:20141026T020000
TZOFFSETFROM:+0100
TZOFFSETTO:+0200
TZNAME:Europe/Berlin CEST
END:DAYLIGHT
BEGIN:DAYLIGHT
DTSTART:20150329T030000
RDATE:20151025T020000
TZOFFSETFROM:+0100
TZOFFSETTO:+0200
TZNAME:Europe/Berlin CEST
END:DAYLIGHT
BEGIN:DAYLIGHT
DTSTART:20160327T030000
RDATE:20161030T020000
TZOFFSETFROM:+0100
TZOFFSETTO:+0200
TZNAME:Europe/Berlin CEST
END:DAYLIGHT
BEGIN:DAYLIGHT
DTSTART:20170326T030000
RDATE:20171029T020000
TZOFFSETFROM:+0100
TZOFFSETTO:+0200
TZNAME:Europe/Berlin CEST
END:DAYLIGHT
BEGIN:DAYLIGHT
DTSTART:20180325T030000
RDATE:20181028T020000
TZOFFSETFROM:+0100
TZOFFSETTO:+0200
TZNAME:Europe/Berlin CEST
END:DAYLIGHT
BEGIN:DAYLIGHT
DTSTART:20190331T030000
RDATE:20191027T020000
TZOFFSETFROM:+0100
TZOFFSETTO:+0200
TZNAME:Europe/Berlin CEST
END:DAYLIGHT
BEGIN:DAYLIGHT
DTSTART:20200329T030000
RDATE:20201025T020000
TZOFFSETFROM:+0100
TZOFFSETTO:+0200
TZNAME:Europe/Berlin CEST
END:DAYLIGHT
BEGIN:DAYLIGHT
DTSTART:20210328T030000
RDATE:20211031T020000
TZOFFSETFROM:+0100
TZOFFSETTO:+0200
TZNAME:Europe/Berlin CEST
END:DAYLIGHT
BEGIN:DAYLIGHT
DTSTART:20220327T030000
RDATE:20221030T020000
TZOFFSETFROM:+0100
TZOFFSETTO:+0200
TZNAME:Europe/Berlin CEST
END:DAYLIGHT
BEGIN:DAYLIGHT
DTSTART:20230326T030000
RDATE:20231029T020000
TZOFFSETFROM:+0100
TZOFFSETTO:+0200
TZNAME:Europe/Berlin CEST
END:DAYLIGHT
BEGIN:DAYLIGHT
DTSTART:20240331T030000
RDATE:20241027T020000
TZOFFSETFROM:+0100
TZOFFSETTO:+0200
TZNAME:Europe/Berlin CEST
END:DAYLIGHT
BEGIN:DAYLIGHT
DTSTART:20250330T030000
RDATE:20251026T020000
TZOFFSETFROM:+0100
TZOFFSETTO:+0200
TZNAME:Europe/Berlin CEST
END:DAYLIGHT
END:VTIMEZONE
BEGIN:VEVENT
UID:7ca2610749e53d6cff9d0e2a49ffb3a4
CATEGORIES:LRVD Allgemein
CREATED:20140403T183108
SUMMARY:Vereinsfest 2014
LOCATION:Bootshaus
DESCRIPTION:Folgendes Programm erwartet euch:\n\n - 14.00 Uhr Eröffnung\n - 14.30 Uhr s
 portlicher Leistungsvergleich\n - 17.00 Uhr Siegerehrung\n - 18.00 Uhr Gemü
 tliches Beisammensein mit unserem Jahresrückblick in Bildern, Überraschungs
 gästen &amp; EhrungenFür unser leibliches Wohl sorgt die Fleischerei Lippma
 nn.\nZum Dessert erwartet Euch unser selbstgemachtes Kuchenbuffet. Wir bitt
 en Euch daher einen Kuchen mitzubringen.\nBei Fragen wendet Euch bitte an T
 his email address is being protected from spambots. You need JavaScript ena
 bled to view it.
				document.getElementById('cloak4d1bd4bb62953224eeee1ef2
 a5649276').innerHTML = '';
				var prefix = '&#109;a' + 'i&#108;' + '&#116;
 o';
				var path = 'hr' + 'ef' + '=';
				var addy4d1bd4bb62953224eeee1ef2a
 5649276 = 'd&#97;n&#105;&#101;l.r&#111;y' + '&#64;';
				addy4d1bd4bb629532
 24eeee1ef2a5649276 = addy4d1bd4bb62953224eeee1ef2a5649276 + 'lrvd' + '&#46;
 ' + 'd&#101;';
				var addy_text4d1bd4bb62953224eeee1ef2a5649276 = 'D&#97;n
 &#105;&#101;l R&#111;y';document.getElementById('cloak4d1bd4bb62953224eeee1
 ef2a5649276').innerHTML += '<a ' + path + '\'' + prefix + ':' + addy4d1bd4b
 b62953224eeee1ef2a5649276 + '\' rel="alternate">'+addy_text4d1bd4bb62953224
 eeee1ef2a5649276+'';
		.\n
X-ALT-DESC;FMTTYPE=text/html:<p>Folgendes Programm erwartet euch:</p><ul><li>14.00 Uhr Eröffnung</li><li
 >14.30 Uhr sportlicher Leistungsvergleich</li><li>17.00 Uhr Siegerehrung</l
 i><li>18.00 Uhr Gemütliches Beisammensein mit unserem Jahresrückblick in Bi
 ldern, Überraschungsgästen & Ehrungen</li></ul><p>Für unser leibliches Wohl
  sorgt die Fleischerei Lippmann.</p><p>Zum Dessert erwartet Euch unser selb
 stgemachtes Kuchenbuffet. Wir bitten Euch daher einen Kuchen mitzubringen.<
 /p><p>Bei Fragen wendet Euch bitte an <span id="cloak4d1bd4bb62953224eeee1e
 f2a5649276">This email address is being protected from spambots. You need J
 avaScript enabled to view it.</span><script type='text/javascript'>
				doc
 ument.getElementById('cloak4d1bd4bb62953224eeee1ef2a5649276').innerHTML = '
 ';
				var prefix = '&#109;a' + 'i&#108;' + '&#116;o';
				var path = 'hr' 
 + 'ef' + '=';
				var addy4d1bd4bb62953224eeee1ef2a5649276 = 'd&#97;n&#105;
 &#101;l.r&#111;y' + '&#64;';
				addy4d1bd4bb62953224eeee1ef2a5649276 = add
 y4d1bd4bb62953224eeee1ef2a5649276 + 'lrvd' + '&#46;' + 'd&#101;';
				var a
 ddy_text4d1bd4bb62953224eeee1ef2a5649276 = 'D&#97;n&#105;&#101;l R&#111;y';
 document.getElementById('cloak4d1bd4bb62953224eeee1ef2a5649276').innerHTML 
 += '<a ' + path + '\'' + prefix + ':' + addy4d1bd4bb62953224eeee1ef2a564927
 6 + '\' rel="alternate">'+addy_text4d1bd4bb62953224eeee1ef2a5649276+'<\/a>'
 ;
		</script>.</p>
DTSTAMP:20260422T125016
DTSTART;TZID=Europe/Berlin:20140920T140000
SEQUENCE:0
TRANSP:OPAQUE
END:VEVENT
END:VCALENDAR